BEGIN:VCALENDAR
VERSION:2.0
PRODID:-// - ECPv6.15.20//NONSGML v1.0//EN
CALSCALE:GREGORIAN
METHOD:PUBLISH
X-ORIGINAL-URL:https://novabiotradeshows.com
X-WR-CALDESC:Events for 
REFRESH-INTERVAL;VALUE=DURATION:PT1H
X-Robots-Tag:noindex
X-PUBLISHED-TTL:PT1H
BEGIN:VTIMEZONE
TZID:UTC
BEGIN:STANDARD
TZOFFSETFROM:+0000
TZOFFSETTO:+0000
TZNAME:UTC
DTSTART:20250101T000000
END:STANDARD
END:VTIMEZONE
BEGIN:VEVENT
DTSTART;TZID=UTC:20260310T000000
DTEND;TZID=UTC:20260312T235900
DTSTAMP:20260424T230407
CREATED:20250501T135839Z
LAST-MODIFIED:20250924T150427Z
UID:845-1773100800-1773359940@novabiotradeshows.com
SUMMARY:9th Bioprocessing Summit Europe 2026
DESCRIPTION:Bioprocessing Summit Europe brings together 750+ upstream\, downstream\, bioproduction\, and analytical professionals from industry and academia to advance the manufacture\, quality\, and control of next generation biologics and genetic therapies. \nThis 3-day\, 14-track meeting has quickly become a premier event in the European bioprocessing calendar and focuses on the latest innovations in bioprocess R&D as well as the practical solutions to enhance efficiency\, speed and cost in biomanufacturing.
URL:https://novabiotradeshows.com/event/9th-bioprocessing-summit-europe-2026/
LOCATION:Booth Number 45 – InterContinental Barcelona\, an IHG Hotel\, Avenida de Rius I Taulet\, 1-3\, Barcelona\, 08004\, Spain
CATEGORIES:EMEA (Europe, Middle East and Africa)
ORGANIZER;CN="Cambridge Innovation Institute":MAILTO:chi@healthtech.com
END:VEVENT
BEGIN:VEVENT
DTSTART;TZID=UTC:20260317T080000
DTEND;TZID=UTC:20260320T170000
DTSTAMP:20260424T230407
CREATED:20250630T151742Z
LAST-MODIFIED:20250630T160026Z
UID:861-1773734400-1774026000@novabiotradeshows.com
SUMMARY:ISICEM
DESCRIPTION:  \n45th International Symposium on Intensive Care & Emergency Medicine\nThe objectives of this four-day symposium are to provide participants with an up to date review of the most recent\, clinically relevant developments in research\, monitoring\, and management of the critically ill. The meeting is open to all physicians\, nurses and other healthcare professionals with an interest in critical care or emergency medicine.
URL:https://novabiotradeshows.com/event/isicem/
LOCATION:Square – Brussels Meeting Center\, Mont des Arts\, Brussels 1000\, Brussels\, Belgium
CATEGORIES:EMEA (Europe, Middle East and Africa)
END:VEVENT
END:VCALENDAR