BEGIN:VCALENDAR
VERSION:2.0
PRODID:-// - ECPv6.15.20//NONSGML v1.0//EN
CALSCALE:GREGORIAN
METHOD:PUBLISH
X-ORIGINAL-URL:https://novabiotradeshows.com
X-WR-CALDESC:Events for 
REFRESH-INTERVAL;VALUE=DURATION:PT1H
X-Robots-Tag:noindex
X-PUBLISHED-TTL:PT1H
BEGIN:VTIMEZONE
TZID:UTC
BEGIN:STANDARD
TZOFFSETFROM:+0000
TZOFFSETTO:+0000
TZNAME:UTC
DTSTART:20250101T000000
END:STANDARD
END:VTIMEZONE
BEGIN:VEVENT
DTSTART;TZID=UTC:20260309T000000
DTEND;TZID=UTC:20260311T235900
DTSTAMP:20260424T201659
CREATED:20250430T205348Z
LAST-MODIFIED:20250924T150936Z
UID:842-1773014400-1773273540@novabiotradeshows.com
SUMMARY:BioProcess International US West 2026 (BPI West)
DESCRIPTION:
URL:https://novabiotradeshows.com/event/bioprocess-international-us-west-2026/
LOCATION:Booth Number: 623 – San Diego Convention Center\, 111 W Harbor Drive\, San Diego\, CA\, 92101\, United States
CATEGORIES:AMER (North, South and Central America)
END:VEVENT
BEGIN:VEVENT
DTSTART;TZID=UTC:20260310T000000
DTEND;TZID=UTC:20260312T235900
DTSTAMP:20260424T201659
CREATED:20250501T135839Z
LAST-MODIFIED:20250924T150427Z
UID:845-1773100800-1773359940@novabiotradeshows.com
SUMMARY:9th Bioprocessing Summit Europe 2026
DESCRIPTION:Bioprocessing Summit Europe brings together 750+ upstream\, downstream\, bioproduction\, and analytical professionals from industry and academia to advance the manufacture\, quality\, and control of next generation biologics and genetic therapies. \nThis 3-day\, 14-track meeting has quickly become a premier event in the European bioprocessing calendar and focuses on the latest innovations in bioprocess R&D as well as the practical solutions to enhance efficiency\, speed and cost in biomanufacturing.
URL:https://novabiotradeshows.com/event/9th-bioprocessing-summit-europe-2026/
LOCATION:Booth Number 45 – InterContinental Barcelona\, an IHG Hotel\, Avenida de Rius I Taulet\, 1-3\, Barcelona\, 08004\, Spain
CATEGORIES:EMEA (Europe, Middle East and Africa)
ORGANIZER;CN="Cambridge Innovation Institute":MAILTO:chi@healthtech.com
END:VEVENT
BEGIN:VEVENT
DTSTART;TZID=UTC:20260317T080000
DTEND;TZID=UTC:20260320T170000
DTSTAMP:20260424T201659
CREATED:20250630T151742Z
LAST-MODIFIED:20250630T160026Z
UID:861-1773734400-1774026000@novabiotradeshows.com
SUMMARY:ISICEM
DESCRIPTION:  \n45th International Symposium on Intensive Care & Emergency Medicine\nThe objectives of this four-day symposium are to provide participants with an up to date review of the most recent\, clinically relevant developments in research\, monitoring\, and management of the critically ill. The meeting is open to all physicians\, nurses and other healthcare professionals with an interest in critical care or emergency medicine.
URL:https://novabiotradeshows.com/event/isicem/
LOCATION:Square – Brussels Meeting Center\, Mont des Arts\, Brussels 1000\, Brussels\, Belgium
CATEGORIES:EMEA (Europe, Middle East and Africa)
END:VEVENT
BEGIN:VEVENT
DTSTART;TZID=UTC:20260322T080000
DTEND;TZID=UTC:20260324T170000
DTSTAMP:20260424T201659
CREATED:20250630T152225Z
LAST-MODIFIED:20250630T155918Z
UID:866-1774166400-1774371600@novabiotradeshows.com
SUMMARY:SCCM - Society of Critical Care Medicine
DESCRIPTION:Explore the latest knowledge and research in critical care and network with experts\, colleagues\, and peers. \nSave the date! Impact the future of your career. Attend the Society of Critical Care Medicine’s (SCCM) 2026 Critical Care Congress and elevate the care you provide. \n\nDiscover the latest critical care knowledge and research.\nMake connections with experts and peers who share your goals.\nExplore new tools and technologies to optimize patient care.\n\nSCCM is the only multiprofessional organization dedicated exclusively to critical care and is a recognized leader in critical care education.
URL:https://novabiotradeshows.com/event/sccm-society-of-critical-care-medicine-3/
LOCATION:McCormick Place\, 2301 S Martin Luther King Dr\, Chicago\, 60616\, United States
CATEGORIES:AMER (North, South and Central America)
END:VEVENT
BEGIN:VEVENT
DTSTART;TZID=UTC:20260328T000000
DTEND;TZID=UTC:20260331T235900
DTSTAMP:20260424T201659
CREATED:20250501T140959Z
LAST-MODIFIED:20250924T150751Z
UID:847-1774656000-1775001540@novabiotradeshows.com
SUMMARY:ISN World Congress of Nephrology 2026 (WCN'26)
DESCRIPTION:Immerse yourself in a dynamic global event combining science\, learning\, and networking at WCN! \n\nExpand your knowledge\nA 4-day program featuring the latest advancements in global kidney health\, presented by internationally recognized experts\nAdvance your career\nGain global recognition as you present and share your research\, and learn best practices from across the world\nGrow your network\nConnect with peers and engage in spotlight sessions\, table talks\, and interactive activities
URL:https://novabiotradeshows.com/event/isn-world-congress-of-nephrology-2026-wcn26/
LOCATION:Booth Number 47 – Pacifico Yokohama\, 1 Chome-1-1 Minatomirai\, Nishi Ward\, Yokohama\, Kanagawa 220-0012\, Japan
CATEGORIES:APAC (Japan, Asia)
ORGANIZER;CN="International Society of Nephrology (ISN)":MAILTO:info@theisn.org
END:VEVENT
END:VCALENDAR